BEGIN:VCALENDAR
VERSION:2.0
PRODID:-//Contratero//ES
CALSCALE:GREGORIAN
METHOD:PUBLISH
BEGIN:VEVENT
UID:02/2025 AB (SG/DPGC)@contratero.es
DTSTAMP:20260421T171557Z
DTSTART:20250516T235959
DTEND:20250517T005959
SUMMARY:Cierre: Servicio para el mantenimiento y desarrollo evolut
DESCRIPTION:Servicio para el mantenimiento y desarrollo evolutivo de la plataforma de búsqueda de conocimiento CDTI basada en inteligencia artificial y procesamiento de lenguaje natural.\\n\\nOrganismo: Dirección General del Centro para el Desarrollo Tecnológico y la Innovación\, E.P.E\\n\\nVer en Contratero: https://contratero.es/contracts/02/2025 AB (SG/DPGC)
URL:https://contratero.es/contracts/02/2025 AB (SG/DPGC)
STATUS:CONFIRMED
BEGIN:VALARM
TRIGGER:-P1D
ACTION:DISPLAY
DESCRIPTION:Recordatorio: Servicio para el mantenimiento
END:VALARM
END:VEVENT
END:VCALENDAR